BEGIN:VCALENDAR
VERSION:2.0
PRODID:-//Magische Tuinen - ECPv5.13.0//NONSGML v1.0//EN
CALSCALE:GREGORIAN
METHOD:PUBLISH
X-WR-CALNAME:Magische Tuinen
X-ORIGINAL-URL:https://www.magische-tuinen.be
X-WR-CALDESC:Events for Magische Tuinen
REFRESH-INTERVAL;VALUE=DURATION:PT1H
X-Robots-Tag:noindex
X-PUBLISHED-TTL:PT1H
BEGIN:VTIMEZONE
TZID:Europe/Brussels
BEGIN:DAYLIGHT
TZOFFSETFROM:+0100
TZOFFSETTO:+0200
TZNAME:CEST
DTSTART:20250330T010000
END:DAYLIGHT
BEGIN:STANDARD
TZOFFSETFROM:+0200
TZOFFSETTO:+0100
TZNAME:CET
DTSTART:20251026T010000
END:STANDARD
BEGIN:DAYLIGHT
TZOFFSETFROM:+0100
TZOFFSETTO:+0200
TZNAME:CEST
DTSTART:20260329T010000
END:DAYLIGHT
BEGIN:STANDARD
TZOFFSETFROM:+0200
TZOFFSETTO:+0100
TZNAME:CET
DTSTART:20261025T010000
END:STANDARD
END:VTIMEZONE
BEGIN:VEVENT
DTSTART;VALUE=DATE:20251213
DTEND;VALUE=DATE:20260106
DTSTAMP:20260423T001034
CREATED:20231106T101846Z
LAST-MODIFIED:20251119T103001Z
UID:21681-1765591200-1767578399@www.magische-tuinen.be
SUMMARY:Kerstmisdecoratie in het prachtige Kasteel van Modave (Hoei)
DESCRIPTION:van 13 december 2025 tot 4 januari 2026 \n\n\n\nOntdek in de vershillende kamers van het prachtige kasteel van Modave de jaarlijkse Kerstmis- en Niewjaarsdecoraties. Het kasteel heeft merkwaardige stucwerken uit de 17de eeuw terwijl de muren getooid zijn met gebeeldhouwde lambriseringen\, wandkleden en grote schilderijen. Het meubilair met uitzonderlijke stukken uit de 18de en 19de eeuw\, past uitstekend in dit juweeltje … \nPraktische Inlichtingen: \nDatum:  Van 13 december 2025 tot 4 januari 2026: Alle dagen van 11u tot 18u.\nIngang: 9\,50 Euro/pers.\nAdres: 4 Rue du Parc – 4577  Modave (Huy-Hoei)
URL:https://www.magische-tuinen.be/agenda/kerstmisdekoratie-kasteel-modave-huy/
ATTACH;FMTTYPE=image/jpeg:https://www.magische-tuinen.be/wp-content/uploads/2023/11/modave-dec14.jpg
END:VEVENT
BEGIN:VEVENT
DTSTART;VALUE=DATE:20251218
DTEND;VALUE=DATE:20260106
DTSTAMP:20260423T001034
CREATED:20241122T142757Z
LAST-MODIFIED:20251119T104127Z
UID:22104-1766023200-1767578399@www.magische-tuinen.be
SUMMARY:Lichtfestival: Winter Floridylle bij Plantentuin Meise (Brussel)
DESCRIPTION:van 18 december 2025 tot 4 januari 2026 \n\n\n\nLichtfestival vol pure magie!\nTijdens de koudste dagen van het jaar verandert de Plantentuin in een magisch sprookjesbos. Het betoverende lichtfestival WinterFloridylle neemt je mee op een tocht van 3\,5 km langs prachtige lichtinstallaties. Verbeeldingsvolle installaties vol betoverende planten\, doorbreken de lange winteravonden. Wandel over de verlichte Eilandtuin\, vergaap je aan de lasershow op het Kasteel en ontdek De Groene Ark by night. \nKom mee genieten van winterse lichtpracht en betoverende geluiden. Piet Goddaer componeert alle muziek voor WinterFloridylle en dompelt je onder in een sensationele muzikale ervaring. \n20 unieke nieuwe lichtinstallaties\, geïnspireerd door de kleurrijke plantenwereld\n– meeslepende muziek op het parcours – speciaal gecomponeerd voor WinterFloridylle door Piet Goddaer\n– een wonderlijke avond met de hele familie\n– Winterdorp met food+drinks+gezelligheid\n– geschikt voor rolstoelen en kinderwagens\n– gratis fotoshoot ten voordele van Alzheimer Liga Vlaanderen \nPraktische Inlichtingen: \nDatum: Van 18 december 2025 tot 4 januari 2026: vanaf 17u30 tot 21u30.\nIngang: 18 Euro/pers.\nAdres: Nieuwelaan 38 – 1860 Meise (Brussel)
URL:https://www.magische-tuinen.be/agenda/lichtfestival-winter-floridylle-plantentuin-meise-brussel/
ATTACH;FMTTYPE=image/jpeg:https://www.magische-tuinen.be/wp-content/uploads/2024/11/festival-des-lumieres-meise-dec24.jpg
END:VEVENT
BEGIN:VEVENT
DTSTART;VALUE=DATE:20251221
DTEND;VALUE=DATE:20260322
DTSTAMP:20260423T001034
CREATED:20231106T104004Z
LAST-MODIFIED:20251124T085205Z
UID:21687-1766282400-1774058399@www.magische-tuinen.be
SUMMARY:Wintermagie bij Plantentuin Meise (Brussel)
DESCRIPTION:van 21 december 2025 tot 20 maart 2026 \n\n\n\nKom de magische winter beleven in Plantentuin Meise. Je vindt er mooie bloemen zoals winterkamperfoelie\, toverhazelaar of chimonant\, prachtige struiken die een beklijvende geur uitstralen die je niet zou verwachten in de koudste tijd van het jaar. Ook kleinere planten zoals wintereikel\, paarse nieskruid\, Kaukasische cyclamen of dubbelbloemige sneeuwklokjes. De Plantentuin Meise nodigt u uit om hun subtiele schoonheid van dichtbij te bewonderen … \nPraktische Inlichtingen: \nDatum: Van 21 december 2025 tot 20 maart 2026: Alle dagen vanaf 10u.\nIngang: 10 Euro/pers.\nAdres: Nieuwelaan 38 – 1860 Meise (Brussel)
URL:https://www.magische-tuinen.be/agenda/winter-plantentuin-meise-brussel/
ATTACH;FMTTYPE=image/jpeg:https://www.magische-tuinen.be/wp-content/uploads/2023/11/meise-dec.jpg
END:VEVENT
END:VCALENDAR