BEGIN:VCALENDAR
VERSION:2.0
PRODID:-//Magische Tuinen - ECPv5.13.0//NONSGML v1.0//EN
CALSCALE:GREGORIAN
METHOD:PUBLISH
X-WR-CALNAME:Magische Tuinen
X-ORIGINAL-URL:https://www.magische-tuinen.be
X-WR-CALDESC:Events for Magische Tuinen
REFRESH-INTERVAL;VALUE=DURATION:PT1H
X-Robots-Tag:noindex
X-PUBLISHED-TTL:PT1H
BEGIN:VTIMEZONE
TZID:Europe/Brussels
BEGIN:DAYLIGHT
TZOFFSETFROM:+0100
TZOFFSETTO:+0200
TZNAME:CEST
DTSTART:20260329T010000
END:DAYLIGHT
BEGIN:STANDARD
TZOFFSETFROM:+0200
TZOFFSETTO:+0100
TZNAME:CET
DTSTART:20261025T010000
END:STANDARD
END:VTIMEZONE
BEGIN:VEVENT
DTSTART;VALUE=DATE:20260320
DTEND;VALUE=DATE:20260622
DTSTAMP:20260422T162433
CREATED:20230301T105709Z
LAST-MODIFIED:20260311T103303Z
UID:21334-1773972000-1782010799@www.magische-tuinen.be
SUMMARY:Printemps au naturel (Wallonië)
DESCRIPTION:van 20 maart tot 20 juni 2026 \n‘Printemps au Naturel’\, een grote sensibiliseringscampagne\, wil iedereen informeren over de risico’s van het gebruik van pesticiden tijdens de 3 maanden van de lente en bewijzen dat er alternatieve oplossingen zijn. \nDankzij de financiële en organisatorische steun van Wallonië kunnen jaarlijks meer dan 500 acties van verschillende actoren (gemeenten\, burgers\, openbare diensten\, scholen\, bedrijven\, enz.) in de kijker worden gezet. \nVoor meer informaties : Printemps au naturel \n\n\n\nPraktische Inlichtingen :\n \nDatum: van 20 maart tot 20 juni 2026\nIngang: \nAdres: Wallonië
URL:https://www.magische-tuinen.be/agenda/printemps-naturel-wallonie-brussel/
ATTACH;FMTTYPE=image/jpeg:https://www.magische-tuinen.be/wp-content/uploads/2023/03/printemps-au-naturel-mars23.jpg
END:VEVENT
BEGIN:VEVENT
DTSTART;VALUE=DATE:20260403
DTEND;VALUE=DATE:20260505
DTSTAMP:20260422T162433
CREATED:20230317T105013Z
LAST-MODIFIED:20260216T135537Z
UID:21358-1775185200-1777863599@www.magische-tuinen.be
SUMMARY:Floralia Brussels bij kasteel van Groot-Bijgaarden (Brussel)
DESCRIPTION:van 3 april tot 3 mei 2026 \nMet Floralia Brussels\, beleef wederom de bloemrijkste lente van de voorjaarsbloembollen in het karakteristieke park van het Kasteel Groot-Bijgaarden. Meer dan één miljoen bloembollen\, vooral tulpen\, narcissen en hyacinten komen in bloei. \nIn het 14 ha grote park is een presentatie weggezet van bijna alle voorjaarsbloemen die men maar bedenken kan. Onder leiding van specialisten uit het bloembollen vak zijn in het park meer dan 1 miljoen bloembollen handmatig geplant. Het expertteam heeft rekening gehouden met de verschillende variëteiten\, hun bloeitijden\, kleuren en hoogtes. De talrijke liefhebbers van voorjaarsbloemen kunnen genieten van meer dan 500 soorten\, waarvan alleen al 400 soorten tulpen. Benieuwd om dit de zien ? Kom dan tijdens onze openingsdagen ! \n\n\n\nPraktische Inlichtingen :\n \nDatum: van 3 april tot 3 mei 2026: van 10u tot 18u\nIngang: 18 Euro/pers.\nAdres: Van Beverenstraat 5 – 1702 Groot-Bijgaarden (Brussel)
URL:https://www.magische-tuinen.be/agenda/floralia-brussels-groot-bijgaarden/
ATTACH;FMTTYPE=image/jpeg:https://www.magische-tuinen.be/wp-content/uploads/2023/03/GRAND_BIGARD_AVRIL16.jpg
END:VEVENT
BEGIN:VEVENT
DTSTART;VALUE=DATE:20260417
DTEND;VALUE=DATE:20260512
DTSTAMP:20260422T162433
CREATED:20230317T142509Z
LAST-MODIFIED:20260312T093540Z
UID:21377-1776394800-1778468399@www.magische-tuinen.be
SUMMARY:Opening van de Koninkelijke Serres van Laken (Brussel)
DESCRIPTION:van 17 april tot 10 mei 2026 \n\n\n\nDe koninklijke serres van Laken behoren tot de opmerkelijkste monumenten van Brussel en fascineren zowel de liefhebbers van de 19-eeuwse architectuur als de plantenminnaars. Onder de indrukwekkende overkappingen van glas en staal vindt u betoverende en zeldzame plantensoorten. Een uitzonderlijke wandeling ! \nvoor meer informaties > www.monarchie.be \nDatum: van 17 april tot 10 mei 2026\nIngang: 7 Euro/pers.\nAdres: Koninkelijk Parklaan – 1020 Brussel
URL:https://www.magische-tuinen.be/agenda/opening-koninkelijke-serres-laken-brussel/
ATTACH;FMTTYPE=image/jpeg:https://www.magische-tuinen.be/wp-content/uploads/2023/03/serresroyales-avril15.jpg
END:VEVENT
BEGIN:VEVENT
DTSTART;VALUE=DATE:20260425
DTEND;VALUE=DATE:20260428
DTSTAMP:20260422T162433
CREATED:20230327T093653Z
LAST-MODIFIED:20260312T102556Z
UID:21431-1777086000-1777258799@www.magische-tuinen.be
SUMMARY:Tuinfestival in het kasteelpark van Beez (Namen)
DESCRIPTION:25 april en 26 april 2026 \n\n\n\nWe wagen een weddenschap om een nieuwe Tuinfestival naar voor te brengen in het kasteelpark van Beez. Er zullen een zeventigtal professionele exposanten aanwezig zijn voor planten\, struiken en tuindecoratie. \nVoor alle tuinliefhebbers is het ook een gelegenheid om te genieten van een wandeling in het prachtige kasteelpark van Engelse stijl met monumentale bomen (waarvan sommige tweehonderdjarig zijn). \nN.B: gratis parking\, mogelijkheden om te eten\, “Kruiwagen”-service voor uw aankopen\, honden zijn aangelijnd toegestaan \nPraktische inlichtingen: \nDatum: zaterdag 25 april en zondag 26 april 2026: van 10u tot 18u\nIngang: 7 Euro/pers.\nAdres: Avenue du château de Beez – 5000 Beez  (Namen)
URL:https://www.magische-tuinen.be/agenda/tuinfestival-kasteelpark-beez-namen/
ATTACH;FMTTYPE=image/jpeg:https://www.magische-tuinen.be/wp-content/uploads/2023/03/festival-jardin-beez.jpg
END:VEVENT
END:VCALENDAR