BEGIN:VCALENDAR
VERSION:2.0
PRODID:-//Magische Tuinen - ECPv5.13.0//NONSGML v1.0//EN
CALSCALE:GREGORIAN
METHOD:PUBLISH
X-WR-CALNAME:Magische Tuinen
X-ORIGINAL-URL:https://www.magische-tuinen.be
X-WR-CALDESC:Events for Magische Tuinen
REFRESH-INTERVAL;VALUE=DURATION:PT1H
X-Robots-Tag:noindex
X-PUBLISHED-TTL:PT1H
BEGIN:VTIMEZONE
TZID:Europe/Brussels
BEGIN:DAYLIGHT
TZOFFSETFROM:+0100
TZOFFSETTO:+0200
TZNAME:CEST
DTSTART:20250330T010000
END:DAYLIGHT
BEGIN:STANDARD
TZOFFSETFROM:+0200
TZOFFSETTO:+0100
TZNAME:CET
DTSTART:20251026T010000
END:STANDARD
BEGIN:DAYLIGHT
TZOFFSETFROM:+0100
TZOFFSETTO:+0200
TZNAME:CEST
DTSTART:20260329T010000
END:DAYLIGHT
BEGIN:STANDARD
TZOFFSETFROM:+0200
TZOFFSETTO:+0100
TZNAME:CET
DTSTART:20261025T010000
END:STANDARD
END:VTIMEZONE
BEGIN:VEVENT
DTSTART;VALUE=DATE:20250920
DTEND;VALUE=DATE:20250923
DTSTAMP:20260421T163745
CREATED:20220823T090845Z
LAST-MODIFIED:20250812T093409Z
UID:20889-1758337200-1758509999@www.magische-tuinen.be
SUMMARY:Plantendagen met zeldzame en collectieplanten bij La Feuillerie (Celles-Doornik)
DESCRIPTION:20 september en 21 september 2025 \n\n\n\nHet ‘niet te missen evenement’ voor alle planten- en tuinliefhebbers. \nEen selectie van de beste Belgische en buitenlandse kwekers ontmoeten elkaar in La Feuillerie\, romantisch park uit de 19e eeuw\, voor het traditionele PLANTENFEEST. \n‘SCHITTERENDE HERFST’ is het thema van deze 77e editie\, een overgangsseizoen maar ook een van de meest spectaculaire periodes van het jaar. ‘De herfst is een tweede lente waar elk blad een bloem is’ (Albert Camus’). De vurige bladeren van Japanse esdoorns\, Ginkgo’s\, Cercis …en de weelderige bloei van asters\, dahlia’s\, hemelsleutel … bieden een kleurenpracht die nog versterkt wordt door het gouden herfstlicht. Van fel geel tot diep rood en koperachtig oranje\, elke plant lijkt te schitteren in haar pracht. Dit geldt zowel voor balkons\, kleine en grote tuinen\, als voor parken en landschappen. \nDe gespecialiseerde kwekers\, elk met hun eigen vakgebied – bomen\, coniferen\, heesters\, vaste planten\, rozen\, bloembollen …\, zullen met trots hun beste planten presenteren uit een uitzonderlijk aanbod. \nZoals bij elke editie zullen enthousiaste liefhebbers en verzamelaars\, hier de mooiste nieuwigheden vinden\, met bovenop het kostbaar advies van de kwekers zelf. \nAl meer dan 35 jaar ijveren de organisatoren ervoor om\, het publiek een breed en uitzonderlijk plantenassortiment te brengen\, in een aangename en gemoedelijk sfeer\, en in het prachtige decor van het park La Feuillerie. \n  \nPraktische Inlichtingen :\n \nDatum:  Zaterdag 20 september en zondag 21 september 2025: van 10u tot 18u\nIngang: 9 Euro/pers\nAdres: 1 Rue de la Feuillerie – 7760 Celles (Doornik) \nWeb: www.lafeuillerie.be \n 
URL:https://www.magische-tuinen.be/agenda/plantendagen-zeldzame-collectieplanten-la-feuillerie-celles-doornik/
CATEGORIES:sponso
ATTACH;FMTTYPE=image/jpeg:https://www.magische-tuinen.be/wp-content/uploads/2022/08/lafeuillerie-sept15.jpg
END:VEVENT
BEGIN:VEVENT
DTSTART;VALUE=DATE:20260418
DTEND;VALUE=DATE:20260421
DTSTAMP:20260421T163745
CREATED:20230317T144623Z
LAST-MODIFIED:20260330T130045Z
UID:21386-1776481200-1776653999@www.magische-tuinen.be
SUMMARY:Plantendagen met zeldzame en collectieplanten van 'La Feuillerie' bij kasteel Saint-Antoine (Molenbaix-Celles)
DESCRIPTION:18 april en 19 april 2026 \n\n\n\n​Na 77 edities opent een nieuwe tuin de deuren voor het Feuillerie Plantenfestival\, met zeldzame- en collectieplanten. Het festival wordt nu georganiseerd door een nieuw team en vindt plaats in april in het park van Château Saint-Antoine in Molenbaix (Celles)\, niet ver van het Feuillerie-park (3 km). \nEen evenement dat u absoluut niet mag missen als u een planten- of tuinliefhebber bent\, of u nu fan bent van plantenfeesten\, tuinfestivals\, tuinbeurzen of plantenbeurzen. U zult hier zeker uw hart ophalen. Naast gespecialiseerde kwekers en ambachtslieden uit de plantenwereld vindt u er ook vakmensen die gespecialiseerd zijn in tuindecoratie en -gereedschap. \nWe hopen u te zien op dit essentiële evenement\, volledig gewijd aan planten\, biodiversiteit en tuinieren. Hier kunt u ervaringen uitwisselen en blijvende herinneringen creëren. \nPraktische inlichtingen: \nDatum: zaterdag 18 april en zondag 19 april 2026: van 10u tot 18u\nIngang: 9 Euro/pers. (8 Euro/pers. via Internet)\nAdres: 1 Rue du Château – 7760 Molenbaix- Celles (Doornik) \nWeb: Domaine Saint-Antoine
URL:https://www.magische-tuinen.be/agenda/plantendagen-zeldzame-collectieplanten-la-feuillerie-kasteel-saint-antoine-molenbaix-celles/
CATEGORIES:sponso
ATTACH;FMTTYPE=image/jpeg:https://www.magische-tuinen.be/wp-content/uploads/2023/03/LA-FEUILLERIE-AVRIL-25.jpg
END:VEVENT
BEGIN:VEVENT
DTSTART;VALUE=DATE:20260510
DTEND;VALUE=DATE:20260512
DTSTAMP:20260421T163745
CREATED:20230414T091402Z
LAST-MODIFIED:20260420T122634Z
UID:21458-1778382000-1778468399@www.magische-tuinen.be
SUMMARY:Rododendron's en Azalea's in bloei te La Feuillerie (Celles-Doornik)
DESCRIPTION:10 mei 2026 \n\n\n\nEen evenement uitsluitend gewijd aan Rododendron’s en Azalea’s\, een uniek evenement in België\, een niet te missen gelegenheid voor de fans van het genre. Het betoverende park ‘la Feuillerie’ \, met meer dan 1000 Rodo’s et Azalea’s in Bloei\, leent zich uitstekend voor het onthaal van gespecialiseerde kwekers. Zij zullen met passie honderden soorten en varieteiten\, onvindbaar in het traditioneel circuit\, te koop aanbieden. \nGrote of kleine tuinen\, alsook voor bloembakken\, met het groot aanbod\, zal een goede keuze een waar plezier worden. Beginnelingen\, liefhebbers en verzamelaars zullen zich laten verleiden door de ontzettende grote keuze van Rodo’s en Azalea’s in bloei\, een ware verrukking. \nDe weelderige bloei periode van maart tot juni\, is niet alleen een must\, maar ook als wintergroene heesters\, dragen ze bij de tuin op een langere periode te animeren. \n  \nPraktische inlichtingen: \nDatum: Zondag 10 mei 2026: van 10u tot 18u\nIngang: 6 Euro/pers.\nAdres: Rue de la Feuillerie\, 1 – 7760 Celles \nWeb: www.lafeuillerie.be \n 
URL:https://www.magische-tuinen.be/agenda/rododendron-azalea-bloei-la-feuillerie-celles-doornik/
CATEGORIES:sponso
ATTACH;FMTTYPE=image/jpeg:https://www.magische-tuinen.be/wp-content/uploads/2023/04/Rhododendron-yakushimanum-Dream-Land-La-Feuillerie-mai25.jpg
END:VEVENT
END:VCALENDAR