BEGIN:VCALENDAR
VERSION:2.0
PRODID:-//Magische Tuinen - ECPv5.13.0//NONSGML v1.0//EN
CALSCALE:GREGORIAN
METHOD:PUBLISH
X-WR-CALNAME:Magische Tuinen
X-ORIGINAL-URL:https://www.magische-tuinen.be
X-WR-CALDESC:Events for Magische Tuinen
REFRESH-INTERVAL;VALUE=DURATION:PT1H
X-Robots-Tag:noindex
X-PUBLISHED-TTL:PT1H
BEGIN:VTIMEZONE
TZID:Europe/Brussels
BEGIN:DAYLIGHT
TZOFFSETFROM:+0100
TZOFFSETTO:+0200
TZNAME:CEST
DTSTART:20260329T010000
END:DAYLIGHT
BEGIN:STANDARD
TZOFFSETFROM:+0200
TZOFFSETTO:+0100
TZNAME:CET
DTSTART:20261025T010000
END:STANDARD
END:VTIMEZONE
BEGIN:VEVENT
DTSTART;VALUE=DATE:20260320
DTEND;VALUE=DATE:20260622
DTSTAMP:20260422T192638
CREATED:20230301T105709Z
LAST-MODIFIED:20260311T103303Z
UID:21334-1773972000-1782010799@www.magische-tuinen.be
SUMMARY:Printemps au naturel (Wallonië)
DESCRIPTION:van 20 maart tot 20 juni 2026 \n‘Printemps au Naturel’\, een grote sensibiliseringscampagne\, wil iedereen informeren over de risico’s van het gebruik van pesticiden tijdens de 3 maanden van de lente en bewijzen dat er alternatieve oplossingen zijn. \nDankzij de financiële en organisatorische steun van Wallonië kunnen jaarlijks meer dan 500 acties van verschillende actoren (gemeenten\, burgers\, openbare diensten\, scholen\, bedrijven\, enz.) in de kijker worden gezet. \nVoor meer informaties : Printemps au naturel \n\n\n\nPraktische Inlichtingen :\n \nDatum: van 20 maart tot 20 juni 2026\nIngang: \nAdres: Wallonië
URL:https://www.magische-tuinen.be/agenda/printemps-naturel-wallonie-brussel/
ATTACH;FMTTYPE=image/jpeg:https://www.magische-tuinen.be/wp-content/uploads/2023/03/printemps-au-naturel-mars23.jpg
END:VEVENT
BEGIN:VEVENT
DTSTART;VALUE=DATE:20260502
DTEND;VALUE=DATE:20261013
DTSTAMP:20260422T192638
CREATED:20230524T092128Z
LAST-MODIFIED:20260420T093448Z
UID:21540-1777690800-1791773999@www.magische-tuinen.be
SUMMARY:Bloeiende tuinen bij 'Jardins en Pays de Liège'
DESCRIPTION:Van 2 mei tot 11 oktober 2026 \nSinds 2002 organiseert de vereniging “Jardins en Pays de Liège” jaarlijks openstelling van privétuinen voor kinderen met een beperking (non-profitorganisatie Accueil Enfants d’un Même Père). In het seizoen van 2026 kunnen bezoekers gedurende 22 dagen 21 tuinen (her)ontdekken… \n– les 2 et 3 mai 2026 à Beaufays (Chaudfontaine)\n– le 3 mai 2026 à Warsage\n– les 16 et 17 mai 2026 à Chapon-Seraing (Verlaine)\n– les 30 et 31 mai 2026 à Hony (Esneux) et Esneux\n– le 7 juin 2026 à Rotheux (Neupré) – lors de la Fête des plantes\n– les 13 et 14 juin 2026 à Amay et Waremme\n– les 20 et 21 juin 2026 à Jalhay et Jehanster (Theux)\n– le 27 et 28 juin 2026 à Olne\n– le 4 et 5 juillet 2026 à Fairon (Hamoir) et Petit Avin (Clavier)\n– le 11 et 12 juillet 2026 à Huy et Strée\n– le 19 et 20 septembre 2026 à Nessonvaux et Beaufays (Chaudfontaine)\n– le 10 et 11 octobre 2026 à Harzé et à Rotheux (Neupré) \nProgramma  \n\n\n\n  \nPraktische inlichtingen: \nDatum:  van 2 mei tot 10 oktober 2026: van 10u tot18u.\nIngang: 5 Euro/tuin\nAdres: Provincie Luik \n 
URL:https://www.magische-tuinen.be/agenda/bloeiende-tuinen-pays-de-liege/
ATTACH;FMTTYPE=image/jpeg:https://www.magische-tuinen.be/wp-content/uploads/2023/05/jardins-en-pays-de-liege.jpg
END:VEVENT
BEGIN:VEVENT
DTSTART;VALUE=DATE:20260508
DTEND;VALUE=DATE:20260602
DTSTAMP:20260422T192638
CREATED:20250416T140117Z
LAST-MODIFIED:20260420T094217Z
UID:22235-1778209200-1780282799@www.magische-tuinen.be
SUMMARY:Pioenen in bloei bij Graefswinning (Nieuwekerken/Sint-Truiden)
DESCRIPTION:8 mei>10 mei\, 15 mei>17 mei\, 22 mei>24 mei\, 30 mei>31 mei 2026 \nEen unieke gelegenheid om de verschillende vormen\, geuren en kleuren te ervaren.\nBezoek onze bloemenvelden en geniet van de schoonheid van pioenen. We kweken een 300-tal verschillende variëteiten kruid- en Itoh pioenen in de volle grond op wandelafstand van de hoeve. De bloemenvelden zijn ook bereikbaar voor stevige buggies. Wandelschoenen of laarzen zijn aangeraden\, onze mooie leemgrond durft weleens plakken op natte dagen … \n  \n\n\n\nPraktische Inlichtingen :\n \nDatum: : 8 mei>10 mei\, 15 mei>17 mei\, 22 mei>24 mei\, 30 mei>31 mei 2026: van 13u tot 17u\nIngang: Gratis\nAdres: Diestersteenweg 222 – 3850 Nieuwekerken (Sint-Truiden)
URL:https://www.magische-tuinen.be/agenda/pioenen-bloei-graefswinning-nieuwekerken-sint-truiden/
ATTACH;FMTTYPE=image/jpeg:https://www.magische-tuinen.be/wp-content/uploads/2025/04/GRAEFSWINNING-mai22.jpg
END:VEVENT
BEGIN:VEVENT
DTSTART;VALUE=DATE:20260523
DTEND;VALUE=DATE:20260527
DTSTAMP:20260422T192638
CREATED:20240710T094049Z
LAST-MODIFIED:20260420T125153Z
UID:21962-1779505200-1779764399@www.magische-tuinen.be
SUMMARY:Tuindagen bij Heihuyzen (Malle - Antwerpen)
DESCRIPTION:van 23 mei tot 25 mei 2026 \n\n\n\nWe maken ons klaar voor een schitterende zesde editie van onze Tuindagen in Malle. De prachtige dreven\, de rustgevende tuin\, de wisselende gezichtsassen… het draagt allemaal bij tot een sfeervol geheel waar de bezoeker zich meteen thuis voelt. \n  \nPraktische inlichtingen: \nDatum:  van zaterdag 23 mei tot maandag 25 mei 2026: Zaterdag 23 mei van 12u tot 18u. Zondag 24 mei en maandag 25 mei 2026: van 10u tot 18u.\nIngang: 9 Euro/pers.\nAdres: Heihuizen 3 – 2390 Malle (Antwerpen) \n 
URL:https://www.magische-tuinen.be/agenda/tuindagenheihuyzen-malle-antwerpen/
ATTACH;FMTTYPE=image/jpeg:https://www.magische-tuinen.be/wp-content/uploads/2024/07/journee-du-jardin-heihuyzen.jpg
END:VEVENT
BEGIN:VEVENT
DTSTART;VALUE=DATE:20260530
DTEND;VALUE=DATE:20260602
DTSTAMP:20260422T192638
CREATED:20230414T130920Z
LAST-MODIFIED:20260420T125719Z
UID:21471-1780110000-1780282799@www.magische-tuinen.be
SUMMARY:Lentetuinen bij kasteel van Jehay (Amay-Hoei)
DESCRIPTION:30 mei en 31 mei 2026 \n\n\n\nOntdek de prachtige domein bij het kasteel van Jehay en beleef deze editie van ‘Jardins de printemps’ met allerlei tuinprofessionals die op u wachten voor. Het betoverende landgoed\, het park\, de tuinen\, de moestuin… heten u welkom in de “Lentetuinen” van het Provinciaal Kasteel van Jehay. Het zal een geweldige kans zijn om deze prachtige plek vol geschiedenis in zijn groene omgeving te ontdekken of te herontdekken … \n  \nPraktische inlichtingen: \nDatum: Zaterdag 30 mei en zondag 31 mei 2026: van 10u tot 18u\nIngang: 6 Euro/pers.\nAdres: Rue du Parc 1 – 4540 Amay (Hoei) \n 
URL:https://www.magische-tuinen.be/agenda/lentetuinen-kasteel-jehay-amay/
ATTACH;FMTTYPE=image/jpeg:https://www.magische-tuinen.be/wp-content/uploads/2023/04/JEHAY-MAI-24.jpg
END:VEVENT
BEGIN:VEVENT
DTSTART;VALUE=DATE:20260530
DTEND;VALUE=DATE:20260601
DTSTAMP:20260422T192638
CREATED:20230523T090805Z
LAST-MODIFIED:20260420T125445Z
UID:21520-1780110000-1780196399@www.magische-tuinen.be
SUMMARY:Opendeurdagen bij de rozenkwekerij van Bruno Parterre (Haccourt-Luik)
DESCRIPTION:30 mei 2026 \n\n\n\nVolg een begeleide rondleiding in de rozentuin van de kwekerij van Bruno Parterre. U kunt hier de mooiste en bloeiende rozelaars bewonderen en kopen … \nDatum:  zaterdag 30 mei 2026: van 10u tot 18u\nIngang: Gratis\nAdres: Avenue Libert Froidmont 21 – 4684 Haccourt (Luik) \n 
URL:https://www.magische-tuinen.be/agenda/opendeurdagen-rozenkwekerij-bruno-parterre-haccourt-luik/
ATTACH;FMTTYPE=image/jpeg:https://www.magische-tuinen.be/wp-content/uploads/2023/05/parterre-juin16.jpg
END:VEVENT
BEGIN:VEVENT
DTSTART;VALUE=DATE:20260531
DTEND;VALUE=DATE:20260602
DTSTAMP:20260422T192638
CREATED:20240619T133353Z
LAST-MODIFIED:20260420T130020Z
UID:21932-1780196400-1780282799@www.magische-tuinen.be
SUMMARY:Open tuinen in Vlaanderen
DESCRIPTION:31 mei 2026 \n\n\n\nBezoek de mooiste tuinen van Vlaanderen en omstreken ! Meer dan 150 tuinen zetten de tuinpoortjes voor je open. Enthousiaste tuineigenaars vertellen je graag hoe zij die natte zone aanpakten\, op welk plekje in hun tuin het ’s zomers heerlijk koel is of laten je in stilte genieten van hun tuinpracht … \nVoor meer info: > Open tuinen in Vlaanderen \nPraktische inlichtingen: \nDatum:  zondag 31 mei 2026\nIngang:\nAdres: Vlaanderen \n 
URL:https://www.magische-tuinen.be/agenda/open-tuinen-vlaandern/
ATTACH;FMTTYPE=image/jpeg:https://www.magische-tuinen.be/wp-content/uploads/2024/06/opentuinen-juin17.jpg
END:VEVENT
BEGIN:VEVENT
DTSTART;VALUE=DATE:20260531
DTEND;VALUE=DATE:20260602
DTSTAMP:20260422T192638
CREATED:20250417T095046Z
LAST-MODIFIED:20260420T130623Z
UID:22255-1780196400-1780282799@www.magische-tuinen.be
SUMMARY:Pioenwandeling bij de Plantentuin 'De Kleine Boerderij' (Merksplas-Turnhout)
DESCRIPTION:31 mei 2026 \n\n\n\nVolop lente in de tuin ! Tijdens de rondleiding neemt een gids je mee langsheen de collectie van 250 verschillende pioenrozen en andere lentebloeiers. Nagenieten kan op het tuinterras met een hapje en een drankje. \nDatum:  zondag 31 mei 2026: om 10u30 en om 14u\nIngang: 6 Euro/pers.\nAdres: Ossenweg 1 – 2330 Merksplas (Turnhout) \n 
URL:https://www.magische-tuinen.be/agenda/pioenwandeling-bij-de-plantentuin-de-kleine-boerderij-merksplas-turnhout/
ATTACH;FMTTYPE=image/jpeg:https://www.magische-tuinen.be/wp-content/uploads/2024/05/kleine-boerderij-juin24.jpg
END:VEVENT
END:VCALENDAR