BEGIN:VCALENDAR
VERSION:2.0
PRODID:-//Magische Tuinen - ECPv5.13.0//NONSGML v1.0//EN
CALSCALE:GREGORIAN
METHOD:PUBLISH
X-WR-CALNAME:Magische Tuinen
X-ORIGINAL-URL:https://www.magische-tuinen.be
X-WR-CALDESC:Events for Magische Tuinen
REFRESH-INTERVAL;VALUE=DURATION:PT1H
X-Robots-Tag:noindex
X-PUBLISHED-TTL:PT1H
BEGIN:VTIMEZONE
TZID:Europe/Brussels
BEGIN:DAYLIGHT
TZOFFSETFROM:+0100
TZOFFSETTO:+0200
TZNAME:CEST
DTSTART:20220327T010000
END:DAYLIGHT
BEGIN:STANDARD
TZOFFSETFROM:+0200
TZOFFSETTO:+0100
TZNAME:CET
DTSTART:20221030T010000
END:STANDARD
END:VTIMEZONE
BEGIN:VEVENT
DTSTART;VALUE=DATE:20221015
DTEND;VALUE=DATE:20221103
DTSTAMP:20260423T002205
CREATED:20220927T092515Z
LAST-MODIFIED:20220927T092642Z
UID:21212-1665802800-1667354399@www.magische-tuinen.be
SUMMARY:Didaktische dagen bij de kwekerij 'Les Pépinières d'Enghien' (Edingen)
DESCRIPTION:van 15 oktober tot 1 november \nDeze opendeurdagen bij de kwekerij ‘Les Pépinières d’Enghien’ zijn voornamelijk didactisch: Olivier en Alexandra informeren u over alles wat u moet weten om uw boomgaard te maken. U kunt een diavoorstelling bekijken en vervolgens een rondleiding volgen (Fr of Nl) om de verschillende vormen en soorten fruit ontdekken … \n\n\n\nPraktische Inlichtingen :\n \nDatum: Van 15 oktober tot 1 november 2022: Woensdag\, vrijdag en zaterdag:  van 8u tot 12u en van 13u tot 17u\nIngang: Gratis\nAdres: Rue Noir Mouchon 23A – 7850 Petit-Enghien (Edingen)
URL:https://www.magische-tuinen.be/agenda/didaktische-dagen-kwekerij-pepiniere-enghien/
ATTACH;FMTTYPE=image/jpeg:https://www.magische-tuinen.be/wp-content/uploads/2022/09/pepiniere-enghien-oct15.jpg
END:VEVENT
BEGIN:VEVENT
DTSTART;VALUE=DATE:20221008
DTEND;VALUE=DATE:20221011
DTSTAMP:20260423T002205
CREATED:20220921T094243Z
LAST-MODIFIED:20220921T094243Z
UID:21204-1665198000-1665370799@www.magische-tuinen.be
SUMMARY:Authentieke herfst bij de kwekerij 'Jardins de Vertumne (Ohey)
DESCRIPTION:8 oktober en 9 oktober \nIn zijn groene omgeving en in een familiale sfeer is “de authentieke herfst” een onmisbare ontmoetingsplaats geworden voor iedereen die gepassioneerd is door Cucurbitaceae\, tuindecoratie en voor iedereen die nieuwsgierig is naar authentieke smaak. Kom met familie of vrienden\, een aangenaam moment door een wandeling in de “Jardins de Vertumne”. \nNaast de prachtige oogsten van pompoen dit jaar op het veld\, bieden wij u ook andere producten aan zoals: huisgemaakt appelsap\, uien\, sjalotten\, aardappelen\, prei\, seizoensfruit en vele andere herfstgroenten … \n\n\n\nPraktische Inlichtingen :\n \nDatum: Zaterdag 8 oktober en zondag 9 oktober 2022: van 9u tot 20u\nIngang: Gratis\nAdres: Rue de Ciney 149 – 5350 Ohey  (Ciney)
URL:https://www.magische-tuinen.be/agenda/authentieke-herfst-bij-de-kwekerij-jardins-de-vertumne-ohey/
ATTACH;FMTTYPE=image/jpeg:https://www.magische-tuinen.be/wp-content/uploads/2022/09/JARDINS-VERTUMNE-_-OCT21.jpg
END:VEVENT
BEGIN:VEVENT
DTSTART;VALUE=DATE:20221001
DTEND;VALUE=DATE:20221004
DTSTAMP:20260423T002205
CREATED:20220921T093941Z
LAST-MODIFIED:20220921T094348Z
UID:21201-1664593200-1664765999@www.magische-tuinen.be
SUMMARY:Authentieke herfst bij de kwekerij 'Jardins de Vertumne (Ohey)
DESCRIPTION:1 oktober en 2 oktober \nIn zijn groene omgeving en in een familiale sfeer is “de authentieke herfst” een onmisbare ontmoetingsplaats geworden voor iedereen die gepassioneerd is door Cucurbitaceae\, tuindecoratie en voor iedereen die nieuwsgierig is naar authentieke smaak. Kom met familie of vrienden\, een aangenaam moment door een wandeling in de “Jardins de Vertumne”. \nNaast de prachtige oogsten van pompoen dit jaar op het veld\, bieden wij u ook andere producten aan zoals: huisgemaakt appelsap\, uien\, sjalotten\, aardappelen\, prei\, seizoensfruit en vele andere herfstgroenten … \n\n\n\nPraktische Inlichtingen :\n \nDatum: Zaterdag 1 oktober en zondag 2 oktober 2022: van 9u tot 20u\nIngang: Gratis\nAdres: Rue de Ciney 149 – 5350 Ohey  (Ciney)
URL:https://www.magische-tuinen.be/agenda/authentieke-herfst-kwekerij-jardins-vertumne-ohey/
ATTACH;FMTTYPE=image/jpeg:https://www.magische-tuinen.be/wp-content/uploads/2022/09/JARDINS-VERTUMNE-_-OCT21.jpg
END:VEVENT
BEGIN:VEVENT
DTSTART;VALUE=DATE:20220918
DTEND;VALUE=DATE:20220920
DTSTAMP:20260423T002205
CREATED:20220823T095727Z
LAST-MODIFIED:20220823T095805Z
UID:20899-1663470000-1663556399@www.magische-tuinen.be
SUMMARY:Hortifolies (Gembloux)
DESCRIPTION:18 september \nVoor deze editie van de Hortifolies staat de Waalse tuinbouw in al zijn diversiteit in de kijker. Ontdek het parcour voor smaken en de ontdekking van een huisvrouwmand. Profiteer van de verschillende activiteiten en proeverijen die je die dag worden aangeboden en volg ook de verschillende demonstraties… Thema van dit jaar: werken aan het beschermen en promoten van oude fruitsoorten … \n\n\n\n  \nPraktische Inlichtingen :\n \nDatum: Zondag 18 september 2022: van 10u tot 17u\nIngang: Gratis\nAdres:  Rue Bordia 4 – 5030 Gembloux
URL:https://www.magische-tuinen.be/agenda/hortifolies-gembloux/
ATTACH;FMTTYPE=image/jpeg:https://www.magische-tuinen.be/wp-content/uploads/2022/08/HORTIFOLIES-sept-18.jpg
END:VEVENT
BEGIN:VEVENT
DTSTART;VALUE=DATE:20220903
DTEND;VALUE=DATE:20220906
DTSTAMP:20260423T002205
CREATED:20220822T134103Z
LAST-MODIFIED:20220822T134311Z
UID:20876-1662174000-1662346799@www.magische-tuinen.be
SUMMARY:Tomaten-en vergeten Groentenfestival (Lesves)
DESCRIPTION:3 september en 4 september \n\n\n\nHet Tomaten- en Vergeten Groentenfestival is een gezellig en feestelijk evenement waar je meer dan 1000 soorten vergeten tomaten en groenten kunt (her)ontdekken\, aangeboden door gepassioneerde verzamelaars … \nPraktische Inlichtingen :\n \nDatums: Zaterdag 3 september en zondag 4 september 2022: van 10u tot 17u\nIngang: Gratis\nAdres: Rue du Bourdon 2 – 5170 Lesves (Profondville)
URL:https://www.magische-tuinen.be/agenda/tomaten-vergeten-groentenfestival-lesves/
ATTACH;FMTTYPE=image/jpeg:https://www.magische-tuinen.be/wp-content/uploads/2022/08/tomates-legumes-oublies-sept-22.jpg
END:VEVENT
BEGIN:VEVENT
DTSTART;VALUE=DATE:20220903
DTEND;VALUE=DATE:20220906
DTSTAMP:20260423T002205
CREATED:20220822T123419Z
LAST-MODIFIED:20220822T123622Z
UID:20871-1662174000-1662346799@www.magische-tuinen.be
SUMMARY:International Wedstrijd voor nieuwe rozelaars (Le Roeulx)
DESCRIPTION:3 september en 4 september \nZoals iedere jaar bij het oud hospitaal Saint-Jacques is er de Internationaal Wedstrijd voor nieuwe rozelaars georgansieerd. Neem deel\, door uw mooiste rozelaar aan te duiden in deze welbekende internationale rozenwedstrijd voor nieuwe rozelaars … \n\n\n\n  \nPraktische Inlichtingen :\n \nDatum: Zaterdag 3 september en zondag 4 september 2022: van 10u tot 18u\nIngang: Gratis\nAdres: Faubourg de Binche 1 – 7070 Le Roeulx (La Louvière)
URL:https://www.magische-tuinen.be/agenda/internationale-wedstrijd-nieuwe-rozelaars/
ATTACH;FMTTYPE=image/jpeg:https://www.magische-tuinen.be/wp-content/uploads/2022/08/leroeulx-concoursroses-sept15.jpg
END:VEVENT
BEGIN:VEVENT
DTSTART;VALUE=DATE:20220430
DTEND;VALUE=DATE:20220503
DTSTAMP:20260423T002205
CREATED:20220413T091212Z
LAST-MODIFIED:20220419T115144Z
UID:19575-1651287600-1651460399@www.magische-tuinen.be
SUMMARY:Salon Passion Robinson (Chevetogne)
DESCRIPTION:samedi 30 avril et dimanche 1 mai \nDurant tout le week-end\, le Domaine de Chevetogne fourmille de constructeurs en tous genres\, d’architectes\, d’entrepreneurs de la filière bois et de jeunes designers wallons aux projets audacieux. Le Salon est une vitrine innovante\, pluridisciplinaire et technologique de l’habitat\, sujet actuel et brûlant. C’est désormais le rendez-vous incontournable pour les amateurs de voyages immobiles ou pour les projets d’habitat léger. Étant à la fois salon (il réunit des cabaneux\, yourteurs\, roulottiers\, tentistes et autres inventistes) et festival\, des activités musicales et créatives pour petits et grands sont également au programme de l’événement (ateliers artistiques\, mais aussi courtes formation d’éco-construction) \nL’idée d’habiter dans une tiny-house ou d’équiper votre hébergement de cabanes insolites vous séduit mais vous ne savez pas par quel bout prendre ce projet ? Rendez-vous au salon pour y rencontrez plusieurs dizaines d’exposants de cabanes\, yourtes\, tree-tents\, roulottes\, tiny-houses … découvrez leurs projets\, pour concrétiser votre projet d’habitat léger. Et si vous n’êtes qu’au début de votre réflexion\, rejoignez les causeries\, ces moments de partage entre professionnels de la construction\, usagers de l’habitat léger et amateurs. C’est LE salon idéal pour faire avancer votre propre projet d’habitat léger\, alternatif\, insolite. \nDécouvrez ou redécouvrez ce bien précieux décliné\, chez nous\, dans toutes les variantes possibles et imaginables et laissez les enfants\, tels de petits constructeurs en herbe\, donner libre cours à leur imagination. Ils auront fort à faire entre cabanes à visiter et ateliers créatifs qui leur sont réservés. \n  \n\n\n\n  \nRenseignements pratiques : \nDate – horaire: Samedi 30 avril et dimanche 1 mai 2022: de 10h à 18h \nPrix: 15 Euro/pers \nAdresse: Domaine Provincial de Chevetogne – 5590 Chevetogne (Ciney)
URL:https://www.magische-tuinen.be/agenda/salon-passion-robinson-chevetogne/
ATTACH;FMTTYPE=image/jpeg:https://www.magische-tuinen.be/wp-content/uploads/2022/04/PASSION-ROBINSON-18.jpg
END:VEVENT
BEGIN:VEVENT
DTSTART;VALUE=DATE:20220429
DTEND;VALUE=DATE:20220503
DTSTAMP:20260423T002205
CREATED:20220405T131653Z
LAST-MODIFIED:20220406T082108Z
UID:18995-1651201200-1651460399@www.magische-tuinen.be
SUMMARY:La Fête des Plantes et du Jardin d'Aywiers (Lasne)
DESCRIPTION:du 29 avril au 1 mai\nC’est la rencontre dynamique de 200 professionnels du monde des jardins et de visiteurs enthousiastes\, dans un cadre enchanteur: l’ancienne abbaye cistercienne d’Aywiers.\nLe jardin de 7 hectares\, entouré de vieux murs\, contient de superbes arbres centenaires\, des arbustes et plantes rares\, un étang\, des sources ainsi qu’un jardin de plantes aromatiques et médicinales.\n​​Venez partager notre passion pour cet endroit lors de la Fête des Plantes et du Jardin. Nous vous y accueillerons avec grande joie ! C’est aussi l’occasion de passer un agréable moment.\n  \n\n\nRenseignements pratiques :\nDate – horaire: du 29 avril au 1 mai 2022:  de 10h à 18h\nEntrée – prix: 12 Euro /pers\nAdresse: Rue de l’Abbaye 14 -1380 Lasne (Waterloo)
URL:https://www.magische-tuinen.be/agenda/fete-plantes-jardin-aywiers/
ATTACH;FMTTYPE=image/jpeg:https://www.magische-tuinen.be/wp-content/uploads/2022/04/aywiers-mai20.jpg
END:VEVENT
BEGIN:VEVENT
DTSTART;VALUE=DATE:20220429
DTEND;VALUE=DATE:20220510
DTSTAMP:20260423T002205
CREATED:20220405T130354Z
LAST-MODIFIED:20220405T212239Z
UID:18991-1651201200-1652065199@www.magische-tuinen.be
SUMMARY:Floralies gantoises (Gand)
DESCRIPTION:du 29 avril au 8 mai \nLa ville de Gand sera dominée par les fleurs\, les plantes … avec “Mon paradis\, mon jardin du monde”\, le thème des Floraliën de Gand.\nLa 36e édition des Floraliën de Gand se déroulera dans les bâtiments familiers de l’ICC\, la salle des Floralies et le Kuipke. Découvrez des salles aux concepts variés\, des jardins intérieurs et extérieurs et laissez la verdure choyer vos sens … \n  \n\n\nRenseignements pratiques :\nDate – horaire: Du vendredi 29 avril au dimanche 8 mai 2022: de 8h à 18h\nEntrée – prix: 32 Euro /pers\nAdresse: Van Rysselberghedreef 2 – 9000 Gand
URL:https://www.magische-tuinen.be/agenda/floralies-gantoises/
ATTACH;FMTTYPE=image/jpeg:https://www.magische-tuinen.be/wp-content/uploads/2022/04/floralies-gantoises.jpg
END:VEVENT
BEGIN:VEVENT
DTSTART;VALUE=DATE:20220423
DTEND;VALUE=DATE:20220503
DTSTAMP:20260423T002205
CREATED:20220413T084448Z
LAST-MODIFIED:20220413T091524Z
UID:19569-1650682800-1651460399@www.magische-tuinen.be
SUMMARY:Expo-Concours d’Amaryllis au château de Beloeil
DESCRIPTION:23 avril au 1 mai \nAvec l’expo-concours d’Amaryllis\, le printemps vous donne rendez-vous au Château de Belœil. Pour la trentième année consécutive\, les Princes de Ligne ouvrent les portes de leur demeure à 6000 amaryllis. Grâce à l’imaginaire des décorateurs\, les magnifiques fleurs habilleront et métamorphoseront pendant neuf jours la résidence princière d’un parfum de vie discret et éphémère. Les amaryllis seront sculptées en bouquets prestigieux. Du grand escalier aux appartements du feld-maréchal\, du salon des Ambassadeurs à la chambre d’Epinoy\, mille couleurs et mille parfums viendront vous étourdir … \n\n\n\n  \nRenseignements pratiques : \nDate – horaire: Du 23 avril au 1 mai 2022: de 10h à 18h \nPrix: 15 Euro/pers \nAdresse: Rue du château 11  –  7970 Beloeil  (Mons)
URL:https://www.magische-tuinen.be/agenda/expo-concours-amaryllis-chateau-beloeil/
ATTACH;FMTTYPE=image/jpeg:https://www.magische-tuinen.be/wp-content/uploads/2022/04/amaryllis-avril15.jpg
END:VEVENT
BEGIN:VEVENT
DTSTART;VALUE=DATE:20220423
DTEND;VALUE=DATE:20220426
DTSTAMP:20260423T002205
CREATED:20220405T124023Z
LAST-MODIFIED:20220405T135143Z
UID:18980-1650682800-1650855599@www.magische-tuinen.be
SUMMARY:Portes ouvertes de Printemps à la pépinière de la Prêle (Bergilers-Waremme)
DESCRIPTION:samedi 23 avril et dimanche 24 avril \nL’endroit\, caché de la route par un hangar\, surprend par son côté bucolique et tranquille. On y trouve un bel assortiment de plantes vivaces et de graminées dans l’esprit des jardins naturels ainsi qu’une sélection d’arbustes «utiles» mellifères et produisant des baies pour les oiseaux. En saison\, on y trouve aussi un beau choix de fleurs annuelles originales pour égayer les jardinières d’été.\nCôté potager\, dès la fin avril\, on peut faire son choix parmi plus de 60 variétés de tomates anciennes issues de nos semis\, des légumes à repiquer\, des légumes vivaces\, de nombreuses aromatiques\, des petits fruits\, des fleurs comestibles\,…\nUne grande partie des plantes sont cultivées par nos soins\, le plus naturellement possible\, sans produits chimiques ni excès d’engrais\, et en respectant le rythme saisonnier. \n\n\nRenseignements pratiques :\nDate – horaire: Le samedi 23 avril et le dimanche 24 avril 2022: de 9h30 à 17h30\nEntrée – prix: Gratuit\nAdresse: Ancienne Chaussée Romaine 64 – 4360 Bergilers
URL:https://www.magische-tuinen.be/agenda/portes-ouvertes-pepiniere-la-prele/
ATTACH;FMTTYPE=image/jpeg:https://www.magische-tuinen.be/wp-content/uploads/2022/04/la-prele-avril17.jpg
END:VEVENT
BEGIN:VEVENT
DTSTART;VALUE=DATE:20220423
DTEND;VALUE=DATE:20220426
DTSTAMP:20260423T002205
CREATED:20220321T105114Z
LAST-MODIFIED:20220413T205656Z
UID:18671-1650682800-1650855599@www.magische-tuinen.be
SUMMARY:Fête des Plantes à la Feuillerie (Celles-Tournai)
DESCRIPTION:samedi 23 et dimanche 24 avril\nCette fête des plantes à La Feuillerie  est un rendez-vous à ne pas manquer pour les amoureux de plantes exceptionnelles. C’est dans un superbe parc romantique du 19 è siècle\, que plus de 70 pépiniéristes belges et étrangers auront à cœur de vous proposer le meilleur de leurs cultures\, les dernières nouveautés et de transmettre leurs précieux conseils. Qualité et diversité sont les maîtres mots. ‘La Feuillerie’ est aussi un parc botanique de 4 ha qui vous permet de découvrir plus de 2500 plantes différentes. L’enchantement est assuré ! \n  \n\nRenseignements pratiques : \nDate – horaire: Samedi 23 avril et dimanche 24 avril 2022: de 10h à 18h\nEntrée – prix: 8 Euro/pers\nAdresse:  1  Rue de la Feuillerie –  7760 Celles (Tournai) – Belgique\nTel : + 32 (0)69.45 60 96\nWeb : www.lafeuillerie.be
URL:https://www.magische-tuinen.be/agenda/fete-plantes-la-feuillerie-celles-tournai-2022/
CATEGORIES:sponso
ATTACH;FMTTYPE=image/jpeg:https://www.magische-tuinen.be/wp-content/uploads/2022/03/LA-FEUILLERIE_9-1.jpeg
END:VEVENT
BEGIN:VEVENT
DTSTART;VALUE=DATE:20220416
DTEND;VALUE=DATE:20220426
DTSTAMP:20260423T002205
CREATED:20220405T134311Z
LAST-MODIFIED:20220405T134810Z
UID:18999-1650078000-1650855599@www.magische-tuinen.be
SUMMARY:Weekends ‘Jardin et Fer’ (Leignon-Ciney)
DESCRIPTION:16 et 17 avril – 23 et 24 avril \nL’horticulteur Philippe Lhoas vous invite dans le jardin privé de son entreprise. Il a crée ce jardin depuis plus de 20 ans. Durant ce weekend de ‘Jardin et Fer’\, 3 artisans du fer avec qui il travaille en étroite collaboration depuis plusieurs années\, seront mis à l’honneur. Venez découvrir leurs magnifiques décorations d’extérieur et d’intérieur. Certaines sont très curieuses … \n  \n\n\nRenseignements pratiques :\nDate – horaire: Le weekend du 16-17 avril et le weekend du 23-24 avril 2022 : de 9 à 18h\nEntrée – prix:Gratuit\nAdresse: Rue Rigaud de Corbion 12 – Leignon (Ciney)
URL:https://www.magische-tuinen.be/agenda/weekends-jardin-fer-leignon/
ATTACH;FMTTYPE=image/jpeg:https://www.magische-tuinen.be/wp-content/uploads/2022/04/lhoas-avril20.jpg
END:VEVENT
BEGIN:VEVENT
DTSTART;VALUE=DATE:20220403
DTEND;VALUE=DATE:20220505
DTSTAMP:20260423T002205
CREATED:20220405T081019Z
LAST-MODIFIED:20220405T144134Z
UID:18964-1648954800-1651633199@www.magische-tuinen.be
SUMMARY:Floralia Brussels au château de Grand-Bigard (Bruxelles)
DESCRIPTION:du 3 avril au 3 mai \nSur les 14 hectares du parc du château de Grand-Bigard vous pourrez découvrir presque toutes les variétés de fleurs de printemps à bulbes. Sous la direction de spécialistes\, professionnels des plantes à bulbes\, ce sont plus d’1 million d’oignons qui ont été plantés à la main par l’équipe de jardiniers du château. Les nombreux amoureux de la nature auront l’occasion de découvrir durant ces 4 semaines 400 variétés de tulipes parmi lesquelles de nouvelles créations. Les jacinthes\, narcisses et d’autres variétés de printemps ont également leur place dans le parc. \n  \n\n\nRenseignements pratiques :\nDate – horaire: Du 3 avril au 3 mai 2022: de 10h à 18h\nEntrée – prix: 13 Euro /pers\nAdresse: Isidoor Van Beverenstraat 5 1702 Groot-Bijgaarden
URL:https://www.magische-tuinen.be/agenda/floralia-brussels-chateau-grand-bigard-bruxelles/
ATTACH;FMTTYPE=image/jpeg:https://www.magische-tuinen.be/wp-content/uploads/2022/04/GRAND_BIGARD_AVRIL16.jpg
END:VEVENT
BEGIN:VEVENT
DTSTART;VALUE=DATE:20220320
DTEND;VALUE=DATE:20220622
DTSTAMP:20260423T002205
CREATED:20220321T104602Z
LAST-MODIFIED:20220405T134938Z
UID:18668-1647741600-1655780399@www.magische-tuinen.be
SUMMARY:Promenade printanière au Jardin Botanique Meise (Bruxelles)
DESCRIPTION:En fonction de l’avancée du printemps\, une explosion de couleurs et de parfums titilleront vos sens aux quatre coins du Jardin Botanique Meise: magnolias\, rododendrons\, roses\,… Le printemps sous son meilleur jour. Un dépliant gratuit est disponible à la caisse et vous guidera dans ce merveilleux Jardin Botanique. il est conseillé de réserver son ticket en avance. \n  \n\n\nRenseignements pratiques :\nDate – horaire: Du 21 mars au 21 juin 2022: Tous les jours à partir de 10h\nEntrée – prix: 9 Euro /pers\nAdresse: Nieuwelaan 38 1860 Meise (Bruxelles) Belgique
URL:https://www.magische-tuinen.be/agenda/promenade-printaniere-jardin-botanique-meise-bruxelles/
ATTACH;FMTTYPE=image/jpeg:https://www.magische-tuinen.be/wp-content/uploads/2022/03/magnolia-meise_9.jpeg
END:VEVENT
BEGIN:VEVENT
DTSTART;VALUE=DATE:20220320
DTEND;VALUE=DATE:20220622
DTSTAMP:20260423T002205
CREATED:20220321T104158Z
LAST-MODIFIED:20220405T094920Z
UID:18665-1647741600-1655780399@www.magische-tuinen.be
SUMMARY:Le Printemps sans pesticides (Wallonie-Bruxelles)
DESCRIPTION:  \n\n\n\n  \nVenez nombreux pour célébrer le Printemps sans pesticides en Wallonie et à Bruxelles. Participez à des belles balades\, portes ouvertes\, visites de jardins\, bourses aux plantes et autres nombreux événements pour petits et grands … \nProgramme complet: > www.semainesanspesticides.be \n  \n\n\nRenseignements pratiques :\nDate – horaire: Du 20 mars au 20 juin 2022\nAdresse: Wallonie & Bruxelles Belgique
URL:https://www.magische-tuinen.be/agenda/printemps-sans-pesticides-wallonie-bruxelles-2022/
ATTACH;FMTTYPE=image/jpeg:https://www.magische-tuinen.be/wp-content/uploads/2022/03/printemps-sans-pesticides-mars16_7.jpeg
END:VEVENT
END:VCALENDAR