BEGIN:VCALENDAR
VERSION:2.0
PRODID:-//Magische Tuinen - ECPv5.13.0//NONSGML v1.0//EN
CALSCALE:GREGORIAN
METHOD:PUBLISH
X-WR-CALNAME:Magische Tuinen
X-ORIGINAL-URL:https://www.magische-tuinen.be
X-WR-CALDESC:Events for Magische Tuinen
REFRESH-INTERVAL;VALUE=DURATION:PT1H
X-Robots-Tag:noindex
X-PUBLISHED-TTL:PT1H
BEGIN:VTIMEZONE
TZID:Europe/Brussels
BEGIN:DAYLIGHT
TZOFFSETFROM:+0100
TZOFFSETTO:+0200
TZNAME:CEST
DTSTART:20250330T010000
END:DAYLIGHT
BEGIN:STANDARD
TZOFFSETFROM:+0200
TZOFFSETTO:+0100
TZNAME:CET
DTSTART:20251026T010000
END:STANDARD
BEGIN:DAYLIGHT
TZOFFSETFROM:+0100
TZOFFSETTO:+0200
TZNAME:CEST
DTSTART:20260329T010000
END:DAYLIGHT
BEGIN:STANDARD
TZOFFSETFROM:+0200
TZOFFSETTO:+0100
TZNAME:CET
DTSTART:20261025T010000
END:STANDARD
END:VTIMEZONE
BEGIN:VEVENT
DTSTART;VALUE=DATE:20251221
DTEND;VALUE=DATE:20260322
DTSTAMP:20260422T175509
CREATED:20231106T104004Z
LAST-MODIFIED:20251124T085205Z
UID:21687-1766282400-1774058399@www.magische-tuinen.be
SUMMARY:Wintermagie bij Plantentuin Meise (Brussel)
DESCRIPTION:van 21 december 2025 tot 20 maart 2026 \n\n\n\nKom de magische winter beleven in Plantentuin Meise. Je vindt er mooie bloemen zoals winterkamperfoelie\, toverhazelaar of chimonant\, prachtige struiken die een beklijvende geur uitstralen die je niet zou verwachten in de koudste tijd van het jaar. Ook kleinere planten zoals wintereikel\, paarse nieskruid\, Kaukasische cyclamen of dubbelbloemige sneeuwklokjes. De Plantentuin Meise nodigt u uit om hun subtiele schoonheid van dichtbij te bewonderen … \nPraktische Inlichtingen: \nDatum: Van 21 december 2025 tot 20 maart 2026: Alle dagen vanaf 10u.\nIngang: 10 Euro/pers.\nAdres: Nieuwelaan 38 – 1860 Meise (Brussel)
URL:https://www.magische-tuinen.be/agenda/winter-plantentuin-meise-brussel/
ATTACH;FMTTYPE=image/jpeg:https://www.magische-tuinen.be/wp-content/uploads/2023/11/meise-dec.jpg
END:VEVENT
BEGIN:VEVENT
DTSTART;VALUE=DATE:20260103
DTEND;VALUE=DATE:20260302
DTSTAMP:20260422T175509
CREATED:20230125T101825Z
LAST-MODIFIED:20251124T084911Z
UID:21296-1767405600-1772330399@www.magische-tuinen.be
SUMMARY:Hamamelisfeesten bij Arboretum Kalmthout (Antwerpen)
DESCRIPTION:van 3 januari tot 28 februari 2026 \nJe eerste bloeiende toverhazelaar vergeet je nooit! Een spektakel is het\, de honderden struiken die in deze wintermaanden vol gele\, rode en oranje bloemen hangen en een zoete geur verspreiden. \nToverhazelaars\, Hamamelis\, bloeien in de herfst of in de winter\, ongeacht koude of sneeuw. Ze hebben gele\, oranje of rode bloemen op kale takken en verspreiden een krachtig\, maar heerlijk zoet parfum. De verzameling toverhazelaars in Arboretum Kalmthout is de grootste in heel Europa en bevat enkele van de oudste exemplaren. \n\n\n\nPraktische Inlichtingen :\n \nDatum: van 3 januari tot 28 februari 2026: iedere dag van 10u tot 17u\nIngang: 10 Euro/pers\nAdres: Heuvel 2 – 2920 Kalmthout (Antwerpen)
URL:https://www.magische-tuinen.be/agenda/hamamelisfeesten-arboretum-kalmthout-antwerpen/
ATTACH;FMTTYPE=image/jpeg:https://www.magische-tuinen.be/wp-content/uploads/2023/01/HAMAMELIS-KALMTHOUT-25.jpg
END:VEVENT
BEGIN:VEVENT
DTSTART;VALUE=DATE:20260131
DTEND;VALUE=DATE:20260303
DTSTAMP:20260422T175509
CREATED:20240112T140131Z
LAST-MODIFIED:20251124T090228Z
UID:21722-1769824800-1772416799@www.magische-tuinen.be
SUMMARY:Sneeuwklokjes weekend bij Alpenplantenkwekerij van Cathy Portier (Brugge)
DESCRIPTION:31/01 & 01/02 – 07/02 & 08/02 en 28/02 & 01/03 2026 \n\n\n\nNa een lange winter heeft een mens nood aan bloemen en fris lentegroen. Witte tapijten van sneeuwklokjes in bossen en tuinen zorgen voor een warm en blij gevoel\, een eerste teken dat de lente in aantocht is. Het is een seizoensgebonden spektakel\, gadegeslagen door een steeds groeiende club van Galanthofielen of sneeuwklokjesliefhebbers in binnen en buitenland. Ook in Brugge ligt een grote sneeuwklokjestuin met zo’n 400 verschillende soorten\, aangeplant en gecombineerd met ander lentegroen. \nPraktische Inlichtingen: \nDatum: 31 januari & 1 februari\, 7 & 8 februari en 28 februari & 1 maart 2026: van 9u tot 17u\nIngang: Gratis.\nAdres: Margareta van Vlaanderenstraat 27 – 8310 St.-Kruis (Brugge)
URL:https://www.magische-tuinen.be/agenda/sneeuwklokjes-weekend-alpenplantenkwekerij-cathy-portier-brugge/
ATTACH;FMTTYPE=image/jpeg:https://www.magische-tuinen.be/wp-content/uploads/2024/01/perce-neige-cathyportier-JANV19.jpg
END:VEVENT
BEGIN:VEVENT
DTSTART;VALUE=DATE:20260207
DTEND;VALUE=DATE:20260224
DTSTAMP:20260422T175509
CREATED:20230125T103441Z
LAST-MODIFIED:20251124T090607Z
UID:21301-1770429600-1771811999@www.magische-tuinen.be
SUMMARY:Sneeuwklokjesdagen bij Arboretum Kalmthout (Antwerpen)
DESCRIPTION:van 7 februari tot 22 februari 2026 \nTapijten van duizenden sneeuwklokjes groeien in het arboretum. Wegwijzers leiden je langs de meest feeërieke plekken waar ze bloeien en langs bijzondere installaties rond deze fragiele winterbloeier. \nHet festivalseizoen van de sneeuwklokjes is aangebroken: met duizenden tegelijk duiken ze op onder statige bomen in het arboretum. Samen vormen ze prachtige tapijten vol zachtjes knikkende kopjes\, meewiegend in de ijzige wind. Sneeuwklokjes of Galanthus komen oorspronkelijk niet uit onze streken\, maar verwilderden en zijn nu zelfs in heel wat bossen terug te vinden. \n\n\n\nPraktische Inlichtingen :\n \nDatum: van 7 februari tot 22 februari 2026: Iedere dag van 10u tot 17u\nIngang: 9\,5 Euro/pers\nAdres: Heuvel 2 – 2920 Kalmthout (Antwerpen)
URL:https://www.magische-tuinen.be/agenda/sneeuwklokjesdagen-arboretum-kalmthout-antwerpen/
ATTACH;FMTTYPE=image/jpeg:https://www.magische-tuinen.be/wp-content/uploads/2023/01/PERCE-NEIGE-KALMTHOUT-680x575-1.jpg
END:VEVENT
BEGIN:VEVENT
DTSTART;VALUE=DATE:20260221
DTEND;VALUE=DATE:20260303
DTSTAMP:20260422T175509
CREATED:20230125T110805Z
LAST-MODIFIED:20260212T110828Z
UID:21309-1771639200-1772416799@www.magische-tuinen.be
SUMMARY:Salon Deco Jardin (Ciney)
DESCRIPTION:Van 21 > 23 februari en van 27 februari > 1 maart 2026 \nDe eerste tuinsalon van het jaar die exclusief gewijd is aan landschapsarchitectuur en tuinieren\, de “DECOJARDIN” tuinsalon transformeert de Ciney Expo-hal in een gigantische tuin gedurende 2 weekenden (6 dagen). \nKom en ontdek een concentratie van meer dan 80 exposanten (hal van 6000m²) die de nieuwe trends presenteren\, terwijl ze concurreren op het gebied van knowhow\, originaliteit en creativiteit. \nEen ontwikkelingsproject ? Onze talrijke landschapsarchitecten\, kwekers of ambachtslieden staan tot uw beschikking om u te adviseren en u te begeleiden … \nVoordrachten\, evenementen en workshops worden u tijdens de hele tuinsalon gratis aangeboden. \n\n\n\nPraktische Inlichtingen :\n \nDatum: van zaterdag 21 tot maandag 23 februari 2026: van 10u tot 18u.  Vrijdag 27 februari 2026: van 13u tot 20u. Zaterdag 28 februari en zondag 1 maart 2026: van 10u tot 18u.\nIngang: 9 Euro/pers\nAdres: 3 Rue du Marché Couvert – 5590 Ciney
URL:https://www.magische-tuinen.be/agenda/salon-deco-jardin-ciney/
ATTACH;FMTTYPE=image/jpeg:https://www.magische-tuinen.be/wp-content/uploads/2023/01/DECO-JARDIN-Ciney.jpg
END:VEVENT
BEGIN:VEVENT
DTSTART;VALUE=DATE:20260228
DTEND;VALUE=DATE:20260302
DTSTAMP:20260422T175509
CREATED:20250117T132708Z
LAST-MODIFIED:20260212T111309Z
UID:22142-1772244000-1772330399@www.magische-tuinen.be
SUMMARY:Snoeidemonstraties voor rozelaars bij Lens Roses (Oudenburg)
DESCRIPTION:28 februari  2026 \n\n\n\nEind februari/begin maart is een perfecte maand om rozen te snoeien en dan organiseren we ook onze rozensnoeidagen. Tijdens deze praktische en leerrijke demonstraties geven we uitleg over alle aspecten van het snoeien van rozen. Van welk gereedschap u nodig heeft tot wat de belangrijkste rozengroepen zijn en hoe deze worden gesnoeid. Dit wordt aan de hand van praktische voorbeelden in de tuin getoond. \nMocht u met een specifieke vraag of probleem zitten\, is er steeds de tijd om hier dieper op in te gaan. Ook bestaat de groep altijd uit liefhebbers en professionelen die graag tips uitwisselen. Tijdens de snoeidemonstraties wordt de snoei van alle rozengroepen belicht. Deze les is er extra aandacht voor de snoei van heesters\, moschatahybriden.​ \nVerplichte inschrijving ! \nPraktische Inlichtingen: \nDatum: 28 februari 2026: van 14u tot 16u (Fr)\nIngang: 12 Euro/pers.\nAdres: Redinnestraat 11 – 8460 Oudenburg (Oostende)
URL:https://www.magische-tuinen.be/agenda/snoeidemonstraties-voor-rozelaars-bij-lens-roses-oudenburg/
ATTACH;FMTTYPE=image/jpeg:https://www.magische-tuinen.be/wp-content/uploads/2024/01/taille-lens-roses-fev19.jpg
END:VEVENT
END:VCALENDAR